BEGIN:VCALENDAR
VERSION:2.0
PRODID:-//Clinical Research Training Center//NONSGML Events//EN
CALSCALE:GREGORIAN
X-ORIGINAL-URL:https://crtc.wustl.edu/events/
X-WR-CALDESC:Clinical Research Training Center - Events
BEGIN:VEVENT
UID:20190812T1542Z-1565624563.6257-EO-15581-1@172.23.128.19
STATUS:CONFIRMED
DTSTAMP:20260420T165610Z
CREATED:20190812T153521Z
LAST-MODIFIED:20200227T233505Z
DTSTART;TZID=America/Chicago:20200303T153000
DTEND;TZID=America/Chicago:20200303T170000
SUMMARY: Career Development Seminar
DESCRIPTION: Washington University in St. Louis Advance registration not re
 quired\, free and open to all For more information\, please contact Jennife
 r Mosher (mosherj@wustl.edu)
X-ALT-DESC;FMTTYPE=text/html: <p>Washington University in St. Louis<br />Ad
 vance registration not required\, free and open to all</p><p>For more infor
 mation\, please contact Jennifer Mosher (<a href="mailto:mosherj@wustl.edu"
 >mosherj@wustl.edu</a>)</p>
CATEGORIES:Career Development Seminar
LOCATION:Wohl Auditorium
GEO:38.636995;-90.264349
ORGANIZER;CN="Brian":MAILTO:bmarston@wustl.edu
URL;VALUE=URI:https://crtc.wustl.edu/events/event/career-development-semina
 r-11/
END:VEVENT
BEGIN:VTIMEZONE
TZID:America/Chicago
BEGIN:STANDARD
TZOFFSETFROM:-0500
TZOFFSETTO:-0600
DTSTART:20191103T070000
TZNAME:CST
END:STANDARD
END:VTIMEZONE
END:VCALENDAR
