BEGIN:VCALENDAR
VERSION:2.0
PRODID:-//Clinical Research Training Center//NONSGML Events//EN
CALSCALE:GREGORIAN
X-ORIGINAL-URL:https://crtc.wustl.edu/events/
X-WR-CALDESC:Clinical Research Training Center - Events
BEGIN:VEVENT
UID:20200930T0323Z-1601436212.4223-EO-22016-1@172.23.128.18
STATUS:CONFIRMED
DTSTAMP:20260414T212412Z
CREATED:20200930T031033Z
LAST-MODIFIED:20201001T182944Z
DTSTART;VALUE=DATE:20201022
DTEND;VALUE=DATE:20201024
SUMMARY: Dissemination & Implementation Workshop
DESCRIPTION: Dissemination & Implementation Research:  An Introductory Work
 shop for Investigators\nThe goal of this two-day workshop is to help partic
 ipants gain introductory knowledge and applied skills with D&I research as 
 well as connect with other like-minded investigators!
X-ALT-DESC;FMTTYPE=text/html: <p>Dissemination & Implementation Research: A
 n Introductory Workshop for Investigators</p><p><strong>A two</strong><stro
 ng>-day workshop via Zoom</strong>                                         
                                                                            
           Oct. 22\, 2020\, 9:00 AM-12:30 PM                                
                                                                            
                      Oct. 23\, 2020\, 9:00 AM-12:30 PM</p><p><strong>Instru
 ctors</strong><strong>:</strong>                                           
                                                                            
                                                   Ana Baumann\, Ph.D.      
                                                                            
                                                            Christopher Carp
 enter\, MD\, MS                                                            
                                                                 Aaloke Mody
 \, MD</p><p><strong>Course Director</strong><strong>:   </strong>          
                                                                            
                                                                       Elvin
  Geng\, MD\, MPH</p><p>The goal of this two-day workshop is to help partici
 pants gain introductory knowledge and applied skills with D&I research as w
 ell as connect with other like-minded investigators!</p><p>Learn more and r
 egister at <a href="https://diintrowkshop2020.eventbrite.com">https://diint
 rowkshop2020.eventbrite.com</a>.</p><p>Virtual Attendance -This event will 
 be available virtually via Zoom. A link to access the workshop will be sent
  to registrants one week prior. A reminder to join the workshop will be sen
 t again one hour prior to the event start.</p><p><span style="font-size: 1.
 125rem\;">Sponsored by the Center for Dissemination and Implementation\, In
 stitute of Clinical and Translational </span><span style="font-size: 1.125r
 em\;">Sciences (ICTS)\, and Clinical Research Training Center (CRTC).</span
 ></p><p>-<a href="https://crtc.wustl.edu/app/uploads/DI-Short-Course-Agenda
 -1.pdf">Agenda</a></p><p>-<a href="https://crtc.wustl.edu/app/uploads/Short
 -Course-in-DI-SCDI-WU.v3-1.pdf">Syllabus</a></p>
CATEGORIES:D&amp\;I Workshops
ORGANIZER;CN="Brian":MAILTO:bmarston@wustl.edu
URL;VALUE=URI:https://crtc.wustl.edu/events/event/dissemination-implementat
 ion-workshop/
ATTACH;FMTTYPE=image/jpeg:https://crtc.wustl.edu/app/uploads/Capture13.jpg
END:VEVENT
BEGIN:VTIMEZONE
TZID:America/Chicago
BEGIN:DAYLIGHT
TZOFFSETFROM:-0600
TZOFFSETTO:-0500
DTSTART:20200308T080000
TZNAME:CDT
END:DAYLIGHT
END:VTIMEZONE
END:VCALENDAR
