BEGIN:VCALENDAR
VERSION:2.0
PRODID:-//Clinical Research Training Center//NONSGML Events//EN
CALSCALE:GREGORIAN
X-ORIGINAL-URL:https://crtc.wustl.edu/events/
X-WR-CALDESC:Clinical Research Training Center - Events
BEGIN:VEVENT
UID:20200916T2001Z-1600286505.2305-EO-21998-1@172.23.128.18
STATUS:CONFIRMED
DTSTAMP:20260421T104132Z
CREATED:20200916T194116Z
LAST-MODIFIED:20210216T152123Z
DTSTART;TZID=America/Chicago:20210309T153000
DTEND;TZID=America/Chicago:20210309T170000
SUMMARY: Delivering Effective Presentations with Tom De Fer\, MD\, FACP
DESCRIPTION: This seminar is part of the CRTC Career Development Seminar Se
 ries. The Career Development Seminar Series offers periodic workshops and p
 resentations open to all trainees\, faculty and staff on professional devel
 opment\, best practices\, resources and guidelines pertaining to research. 
   To register\, contact Jennifer Mosher at mosherj@wustl.edu.
X-ALT-DESC;FMTTYPE=text/html: <p>This seminar is part of the<strong> CRTC C
 areer Development Seminar Series</strong>. The Career Development Seminar S
 eries offers periodic workshops and presentations open to all trainees\, fa
 culty and staff on professional development\, best practices\, resources an
 d guidelines pertaining to research.</p><p> </p><p>To register\, contact Je
 nnifer Mosher at <a href="mailto:mosherj@wustl.edu">mosherj@wustl.edu</a>.<
 /p>
CATEGORIES:Career Development Seminar
LOCATION:Online - Zoom
GEO:38.635144;-90.262929
ORGANIZER;CN="Brian":MAILTO:bmarston@wustl.edu
URL;VALUE=URI:https://crtc.wustl.edu/events/event/effective-presentations-w
 ith-tom-de-fer-md-facp/
END:VEVENT
BEGIN:VTIMEZONE
TZID:America/Chicago
BEGIN:STANDARD
TZOFFSETFROM:-0600
TZOFFSETTO:-0600
DTSTART:20201101T070000
TZNAME:CST
END:STANDARD
END:VTIMEZONE
END:VCALENDAR
