BEGIN:VCALENDAR
VERSION:2.0
PRODID:-//Clinical Research Training Center//NONSGML Events//EN
CALSCALE:GREGORIAN
X-ORIGINAL-URL:https://crtc.wustl.edu/events/
X-WR-CALDESC:Clinical Research Training Center - Events
BEGIN:VEVENT
UID:20220707T1809Z-1657217363.0508-EO-25624-1@172.23.128.19
STATUS:CONFIRMED
DTSTAMP:20260425T033224Z
CREATED:20220707T174330Z
LAST-MODIFIED:20220727T221953Z
DTSTART;TZID=America/Chicago:20220907T160000
DTEND;TZID=America/Chicago:20220907T170000
SUMMARY: Genomics in Medicine Seminar
DESCRIPTION: Topic/Title: Intro to Genomics in Medicine (and Sequencing Tec
 hnologies) Speaker: Obi Griffith\, PhD This lecture series is designed for 
 clinicians and other interested persons\, including basic science researche
 rs\, students\, residents\, fellows\, post-doctoral scholars\, and anyone e
 lse who wishes to learn more about these topics from WUSM faculty experts. 
 All professionals from ICTS Partner Institutions are […]
X-ALT-DESC;FMTTYPE=text/html: <p><strong>Topic/Title:</strong> Intro to Gen
 omics in Medicine (and Sequencing Technologies)</p><p><strong>Speaker:</str
 ong> Obi Griffith\, PhD</p><p>This lecture series is designed for clinician
 s and other interested persons\, including basic science researchers\, stud
 ents\, residents\, fellows\, post-doctoral scholars\, and anyone else who w
 ishes to learn more about these topics from WUSM faculty experts. All profe
 ssionals from ICTS Partner Institutions are welcome to participate.</p><p>S
 tudents interested in enrolling in the seminar series for credit can earn u
 p to two units of academic credit.</p><p>This seminar series offers attende
 es a practical background in molecular biology and genetics\, an introducti
 on to genomics technologies and research\, and an understanding of the clin
 ical application of genomics knowledge.</p><p><strong>Contact:</strong> Kar
 lee Kreienkamp (<a href="mailto:k.kreienkamp@wustl.edu">k.kreienkamp@wustl.
 edu</a>) to learn more\, RSVP for individual seminar sessions\, or register
  for the course.</p><p><em>This seminar series is a collaboration between t
 he Departments of Genetics\, Medicine\, Pathology & Immunology\, Pediatrics
 \, and Becker Medical Library. The series is sponsored by the Washington Un
 iversity Institute of Clinical and Translational Sciences\, NIH award UL1 T
 R002345.</em></p>
CATEGORIES:Genomics in Medicine Seminar
LOCATION:Online - Zoom
GEO:38.635144;-90.262929
ORGANIZER;CN="McKinzie":MAILTO:tolliver.m@wustl.edu
URL;VALUE=URI:https://crtc.wustl.edu/events/event/genomics-in-medicine-2/
END:VEVENT
BEGIN:VTIMEZONE
TZID:America/Chicago
BEGIN:DAYLIGHT
TZOFFSETFROM:-0600
TZOFFSETTO:-0500
DTSTART:20220313T080000
TZNAME:CDT
END:DAYLIGHT
END:VTIMEZONE
END:VCALENDAR
