BEGIN:VCALENDAR
VERSION:2.0
PRODID:-//Clinical Research Training Center//NONSGML Events//EN
CALSCALE:GREGORIAN
X-ORIGINAL-URL:https://crtc.wustl.edu/events/
X-WR-CALDESC:Clinical Research Training Center - Events
BEGIN:VEVENT
UID:20240813T2225Z-1723587932.4633-EO-31591-1@10.24.106.144
STATUS:CONFIRMED
DTSTAMP:20260424T125319Z
CREATED:20240813T212812Z
LAST-MODIFIED:20240828T185235Z
DTSTART;TZID=America/Chicago:20241113T160000
DTEND;TZID=America/Chicago:20241113T170000
SUMMARY: Genomics in Medicine Seminar – Single Cell Transcriptomics
DESCRIPTION: TOPIC/TITLE: Single Cell Transcriptomics SPEAKER: Jennifer Fol
 tz-Stringfellow\, PhD ZOOM LINK: Click here. This lecture series is designe
 d for clinicians and other interested persons\, including basic science res
 earchers\, students\, residents\, fellows\, post-doctoral scholars\, and an
 yone else who wishes to learn more about these topics from WUSM faculty exp
 erts. Students interested in enrolling in the seminar series […]
X-ALT-DESC;FMTTYPE=text/html: <p>TOPIC/TITLE: <b>Single Cell Transcriptomic
 s</b></p><p>SPEAKER:<a href="https://oncology.wustl.edu/people/jennifer-ann
 -foltz-tringfellow-phd/"><b> Jennifer Foltz-Stringfellow\, PhD</b></a></p><
 p>ZOOM LINK: <a href="https://wustl-hipaa.zoom.us/meeting/register/tJEpfuyv
 rzosHNZxGC0nsyyeBLe3aVL46857"><strong>Click here.</strong></a></p><p>This l
 ecture series is designed for clinicians and other interested persons\, inc
 luding basic science researchers\, students\, residents\, fellows\, post-do
 ctoral scholars\, and anyone else who wishes to learn more about these topi
 cs from WUSM faculty experts.</p><p>Students interested in enrolling in the
  seminar series for credit can earn up to two units of academic credit.</p>
 <p>The seminar series offers attendees a practical background in molecular 
 biology and genetics\, an introduction to genomics technologies and researc
 h\, and an understanding of the clinical application of genomics knowledge.
 </p><p><strong>CONTACT: Karlee Kreienkamp (<a href="mailto:k.kreienkamp@wus
 tl.edu">k.kreienkamp@wustl.edu</a>) to learn more\, RSVP for individual sem
 inar sessions or register for the course.</strong></p><p><em>This seminar s
 eries is a collaboration between the Departments of Genetics\, Medicine\, P
 athology & Immunology\, Pediatrics\, and Becker Medical Library. The series
  is sponsored by the Washington University Institute of Clinical and Transl
 ational Sciences\, NIH award UL1 TR002345.</em></p>
CATEGORIES:Genomics in Medicine Seminar
LOCATION:Online - Zoom
GEO:38.635144;-90.262929
ORGANIZER;CN="Brian":MAILTO:bmarston@wustl.edu
URL;VALUE=URI:https://crtc.wustl.edu/events/event/genomics-in-medicine-semi
 nar-single-cell-transcriptomics-2/
END:VEVENT
BEGIN:VTIMEZONE
TZID:America/Chicago
BEGIN:STANDARD
TZOFFSETFROM:-0500
TZOFFSETTO:-0600
DTSTART:20241103T070000
TZNAME:CST
END:STANDARD
END:VTIMEZONE
END:VCALENDAR
