BEGIN:VCALENDAR
VERSION:2.0
PRODID:-//Clinical Research Training Center//NONSGML Events//EN
CALSCALE:GREGORIAN
X-ORIGINAL-URL:https://crtc.wustl.edu/events/
X-WR-CALDESC:Clinical Research Training Center - Events
BEGIN:VEVENT
UID:20250729T1712Z-1753809179.6439-EO-33221-1@10.73.4.161
STATUS:CONFIRMED
DTSTAMP:20260423T111410Z
CREATED:20250729T170950Z
LAST-MODIFIED:20250821T140916Z
DTSTART;TZID=America/Chicago:20251027T160000
DTEND;TZID=America/Chicago:20251027T170000
SUMMARY: Genomics in Medicine Seminar – Single Cell Transcriptomics
DESCRIPTION: TOPIC/TITLE: Single Cell Transcriptomics SPEAKER: Jennifer Fol
 tz-Stringfellow\, PhD ZOOM LINK: Click here. This lecture series is designe
 d for clinicians and other interested persons\, including basic science res
 earchers\, students\, residents\, fellows\, post-doctoral scholars\, and an
 yone else who wishes to learn more about these topics from WashU faculty ex
 perts. Students interested in enrolling in the seminar series for […]
X-ALT-DESC;FMTTYPE=text/html: <p>TOPIC/TITLE: <strong>Single Cell Transcrip
 tomics</strong></p><p>SPEAKER: <strong>Jennifer Foltz-Stringfellow\, PhD</s
 trong></p><p>ZOOM LINK: <a href="https://wustl-hipaa.zoom.us/meeting/regist
 er/_ugKxXfxQHC1ngZtHEOwpw"><strong>Click here.</strong></a></p><p>This lect
 ure series is designed for clinicians and other interested persons\, includ
 ing basic science researchers\, students\, residents\, fellows\, post-docto
 ral scholars\, and anyone else who wishes to learn more about these topics 
 from WashU faculty experts.</p><p>Students interested in enrolling in the s
 eminar series for credit can earn up to two units of academic credit.</p><p
 >The seminar series offers attendees a practical background in molecular bi
 ology and genetics\, an introduction to genomics technologies and research\
 , and an understanding of the clinical application of genomics knowledge.</
 p><p><strong>CONTACT: Clinical Research Training Center (<a href="mailto:cr
 tcmsci@wustl.edu">crtcmsci@wustl.edu</a>) to learn more\, RSVP for individu
 al seminar sessions or register for the course.</strong></p><p><em>This sem
 inar series is a collaboration between the Departments of Genetics\, Medici
 ne\, Pathology & Immunology\, Pediatrics\, and Becker Medical Library. The 
 series is sponsored by the Washington University Institute of Clinical and 
 Translational Sciences\, NIH award UL1 TR002345.</em></p>
CATEGORIES:Genomics in Medicine Seminar
LOCATION:Online - Zoom
GEO:38.635144;-90.262929
ORGANIZER;CN="Taylor":MAILTO:andersontaylor@wustl.edu
URL;VALUE=URI:https://crtc.wustl.edu/events/event/genomics-in-medicine-semi
 nar-single-cell-transcriptomics-3/
END:VEVENT
BEGIN:VTIMEZONE
TZID:America/Chicago
BEGIN:DAYLIGHT
TZOFFSETFROM:-0600
TZOFFSETTO:-0500
DTSTART:20250309T080000
TZNAME:CDT
END:DAYLIGHT
END:VTIMEZONE
END:VCALENDAR
