BEGIN:VCALENDAR
VERSION:2.0
PRODID:-//Clinical Research Training Center//NONSGML Events//EN
CALSCALE:GREGORIAN
X-ORIGINAL-URL:https://crtc.wustl.edu/events/
X-WR-CALDESC:Clinical Research Training Center - Events
BEGIN:VEVENT
UID:20230814T2325Z-1692055519.8397-EO-30853-1@172.23.128.18
STATUS:CONFIRMED
DTSTAMP:20260421T115730Z
CREATED:20230814T230450Z
LAST-MODIFIED:20231005T215851Z
DTSTART;TZID=America/Chicago:20231115T160000
DTEND;TZID=America/Chicago:20231115T170000
SUMMARY: Genomics in Medicine Seminar – Single Cell Transcriptomics
DESCRIPTION: Topic/Title: Single Cell Transcriptomics Speaker: Jennifer Fol
 tz-Stringfellow\, PhD Zoom Link: https://wustl-hipaa.zoom.us/meeting/regist
 er/tJ0sduihqTwuG9VgEOEtJKcyiXp11UR68cv6 This lecture series is designed for
  clinicians and other interested persons\, including basic science research
 ers\, students\, residents\, fellows\, post-doctoral scholars\, and anyone 
 else who wishes to learn more about these topics from WUSM faculty experts.
  Students interested in enrolling in the seminar series for credit […]
X-ALT-DESC;FMTTYPE=text/html: <p><strong>Topic/Title:</strong> <strong>Sing
 le Cell Transcriptomics</strong></p><p><strong>Speaker: <a href="https://pr
 ofiles.wustl.edu/en/persons/jennifer-foltz-stringfellow">Jennifer Foltz-Str
 ingfellow\, PhD</a></strong></p><p><strong>Zoom Link:</strong> <a href="htt
 ps://wustl-hipaa.zoom.us/meeting/register/tJ0sduihqTwuG9VgEOEtJKcyiXp11UR68
 cv6">https://wustl-hipaa.zoom.us/meeting/register/tJ0sduihqTwuG9VgEOEtJKcyi
 Xp11UR68cv6</a></p><p>This lecture series is designed for clinicians and ot
 her interested persons\, including basic science researchers\, students\, r
 esidents\, fellows\, post-doctoral scholars\, and anyone else who wishes to
  learn more about these topics from WUSM faculty experts.</p><p>Students in
 terested in enrolling in the seminar series for credit can earn up to two u
 nits of academic credit.</p><p>The seminar series offers attendees a practi
 cal background in molecular biology and genetics\, an introduction to genom
 ics technologies and research\, and an understanding of the clinical applic
 ation of genomics knowledge.</p><p><strong>Contact: Karlee Kreienkamp (<a h
 ref="mailto:k.kreienkamp@wustl.edu">k.kreienkamp@wustl.edu</a>) to learn mo
 re\, RSVP for individual seminar sessions or register for the course.</stro
 ng></p><p><em>This seminar series is a collaboration between the Department
 s of Genetics\, Medicine\, Pathology & Immunology\, Pediatrics\, and Becker
  Medical Library. The series is sponsored by the Washington University Inst
 itute of Clinical and Translational Sciences\, NIH award UL1 TR002345.</em>
 </p>
CATEGORIES:Genomics in Medicine Seminar
LOCATION:Online - Zoom
GEO:38.635144;-90.262929
ORGANIZER;CN="Brian":MAILTO:bmarston@wustl.edu
URL;VALUE=URI:https://crtc.wustl.edu/events/event/genomics-in-medicine-semi
 nar-single-cell-transcriptomics/
END:VEVENT
BEGIN:VTIMEZONE
TZID:America/Chicago
BEGIN:STANDARD
TZOFFSETFROM:-0500
TZOFFSETTO:-0600
DTSTART:20231105T070000
TZNAME:CST
END:STANDARD
END:VTIMEZONE
END:VCALENDAR
