BEGIN:VCALENDAR
VERSION:2.0
PRODID:-//Clinical Research Training Center//NONSGML Events//EN
CALSCALE:GREGORIAN
X-ORIGINAL-URL:https://crtc.wustl.edu/events/
X-WR-CALDESC:Clinical Research Training Center - Events
BEGIN:VEVENT
UID:20220707T1809Z-1657217363.0411-EO-25621-1@172.23.128.19
STATUS:CONFIRMED
DTSTAMP:20260425T033224Z
CREATED:20220707T174030Z
LAST-MODIFIED:20220714T154450Z
DTSTART;TZID=America/Chicago:20220831T160000
DTEND;TZID=America/Chicago:20220831T170000
SUMMARY: Genomics in Medicine Seminar
DESCRIPTION: Topic/Title: Molecular Biology/Genetics Refresher Speaker: Fel
 icia Gomez\, PhD This lecture series is designed for clinicians and other i
 nterested persons\, including basic science researchers\, students\, reside
 nts\, fellows\, post-doctoral scholars\, and anyone else who wishes to lear
 n more about these topics from WUSM faculty experts. All professionals from
  ICTS Partner Institutions are welcome to participate. Students interested 
 […]
X-ALT-DESC;FMTTYPE=text/html: <p><strong>Topic/Title:</strong> Molecular Bi
 ology/Genetics Refresher</p><p><strong>Speaker:</strong> Felicia Gomez\, Ph
 D</p><p>This lecture series is designed for clinicians and other interested
  persons\, including basic science researchers\, students\, residents\, fel
 lows\, post-doctoral scholars\, and anyone else who wishes to learn more ab
 out these topics from WUSM faculty experts. All professionals from ICTS Par
 tner Institutions are welcome to participate.</p><p>Students interested in 
 enrolling in the seminar series for credit can earn up to two units of acad
 emic credit.</p><p>This seminar series offers attendees a practical backgro
 und in molecular biology and genetics\, an introduction to genomics technol
 ogies and research\, and an understanding of the clinical application of ge
 nomics knowledge.</p><p><strong>Contact:</strong> Karlee Kreienkamp (<a hre
 f="mailto:k.kreienkamp@wustl.edu">k.kreienkamp@wustl.edu</a>) to learn more
 \, RSVP for individual seminar sessions\, or register for the course.</p><p
 ><em>This seminar series is a collaboration between the Departments of Gene
 tics\, Medicine\, Pathology & Immunology\, Pediatrics\, and Becker Medical 
 Library. The series is sponsored by the Washington University Institute of 
 Clinical and Translational Sciences\, NIH award UL1 TR002345.</em></p>
CATEGORIES:Genomics in Medicine Seminar
LOCATION:Online - Zoom
GEO:38.635144;-90.262929
ORGANIZER;CN="McKinzie":MAILTO:tolliver.m@wustl.edu
URL;VALUE=URI:https://crtc.wustl.edu/events/event/genomics-in-medicine/
END:VEVENT
BEGIN:VTIMEZONE
TZID:America/Chicago
BEGIN:DAYLIGHT
TZOFFSETFROM:-0600
TZOFFSETTO:-0500
DTSTART:20220313T080000
TZNAME:CDT
END:DAYLIGHT
END:VTIMEZONE
END:VCALENDAR
