BEGIN:VCALENDAR
VERSION:2.0
PRODID:-//Clinical Research Training Center//NONSGML Events//EN
CALSCALE:GREGORIAN
X-ORIGINAL-URL:https://crtc.wustl.edu/events/
X-WR-CALDESC:Clinical Research Training Center - Events
BEGIN:VEVENT
UID:20200826T2025Z-1598473515.511-EO-21893-1@172.23.128.18
STATUS:CONFIRMED
DTSTAMP:20260415T123958Z
CREATED:20200826T202227Z
LAST-MODIFIED:20200826T202227Z
DTSTART;TZID=America/Chicago:20201118T080000
DTEND;TZID=America/Chicago:20201118T170000
SUMMARY: NIH Mock Study Section
DESCRIPTION: 2020.11.18 MSS Flyer Final
X-ALT-DESC;FMTTYPE=text/html: <p><a href="https://crtc.wustl.edu/app/upload
 s/2020.11.18-MSS-Flyer-Final.pdf">2020.11.18 MSS Flyer Final</a></p>
ORGANIZER;CN="Brian":MAILTO:bmarston@wustl.edu
URL;VALUE=URI:https://crtc.wustl.edu/events/event/nih-mock-study-section-2/
END:VEVENT
BEGIN:VTIMEZONE
TZID:America/Chicago
BEGIN:STANDARD
TZOFFSETFROM:-0500
TZOFFSETTO:-0600
DTSTART:20201101T070000
TZNAME:CST
END:STANDARD
END:VTIMEZONE
END:VCALENDAR
