BEGIN:VCALENDAR
VERSION:2.0
PRODID:-//Clinical Research Training Center//NONSGML Events//EN
CALSCALE:GREGORIAN
X-ORIGINAL-URL:https://crtc.wustl.edu/events/
X-WR-CALDESC:Clinical Research Training Center - Events
BEGIN:VEVENT
UID:20211208T1946Z-1638992818.2627-EO-23860-1@172.23.128.18
STATUS:CONFIRMED
DTSTAMP:20260423T162549Z
CREATED:20211208T194134Z
LAST-MODIFIED:20211208T195619Z
DTSTART;TZID=America/Chicago:20220328T170000
DTEND;TZID=America/Chicago:20220328T170000
SUMMARY: NIH Training Grant (T32) Mock Study Section Submission Deadline
DESCRIPTION: NIH Training Grant (T32) Mock Study Section will be held on Ap
 ril 15\, 2022. Reviews will be distributed to applicants by 5pm. LOI Deadli
 ne: March 7\, 2022 by 5pm CST. Grant Material Deadline: March 28\, 2022 by 
 5pm CST.
X-ALT-DESC;FMTTYPE=text/html: <p>NIH Training Grant (T32) Mock Study Sectio
 n will be held on April 15\, 2022.</p><p>Reviews will be distributed to app
 licants by 5pm.</p><p>LOI Deadline: March 7\, 2022 by 5pm CST.</p><p>Grant 
 Material Deadline: March 28\, 2022 by 5pm CST.</p>
ORGANIZER;CN="Brian":MAILTO:bmarston@wustl.edu
URL;VALUE=URI:https://crtc.wustl.edu/events/event/nih-training-grant-t32-mo
 ck-study-section-submission-deadline/
END:VEVENT
BEGIN:VTIMEZONE
TZID:America/Chicago
BEGIN:DAYLIGHT
TZOFFSETFROM:-0600
TZOFFSETTO:-0500
DTSTART:20220313T080000
TZNAME:CDT
END:DAYLIGHT
END:VTIMEZONE
END:VCALENDAR
