BEGIN:VCALENDAR
VERSION:2.0
PRODID:-//Clinical Research Training Center//NONSGML Events//EN
CALSCALE:GREGORIAN
X-ORIGINAL-URL:https://crtc.wustl.edu/events/
X-WR-CALDESC:Clinical Research Training Center - Events
BEGIN:VEVENT
UID:20211208T1645Z-1638981921.6776-EO-23848-1@172.23.128.18
STATUS:CONFIRMED
DTSTAMP:20260415T085940Z
CREATED:20211208T163935Z
LAST-MODIFIED:20211208T200402Z
DTSTART;VALUE=DATE:20220415
DTEND;VALUE=DATE:20220416
SUMMARY: NIH Training Grant (T32) Mock Study Section
DESCRIPTION: NIH Training Grant (T32) Mock Study Section will be held on Ap
 ril 15\, 2022. Reviews will be distributed to applicants by 5pm. LOI Deadli
 ne: March 7\, 2022 at 5pm CST. Grant Material Deadline: March 28\, 2022 at 
 5pm CST.
X-ALT-DESC;FMTTYPE=text/html: <p>NIH Training Grant (T32) Mock Study Sectio
 n will be held on April 15\, 2022.</p><p>Reviews will be distributed to app
 licants by 5pm.</p><p>LOI Deadline: March 7\, 2022 at 5pm CST.</p><p>Grant 
 Material Deadline: March 28\, 2022 at 5pm CST.</p>
LOCATION:Online - Zoom
GEO:38.635144;-90.262929
ORGANIZER;CN="Brian":MAILTO:bmarston@wustl.edu
URL;VALUE=URI:https://crtc.wustl.edu/events/event/nih-training-grant-t32-mo
 ck-study-section/
END:VEVENT
BEGIN:VTIMEZONE
TZID:America/Chicago
BEGIN:DAYLIGHT
TZOFFSETFROM:-0600
TZOFFSETTO:-0500
DTSTART:20220313T080000
TZNAME:CDT
END:DAYLIGHT
END:VTIMEZONE
END:VCALENDAR
