BEGIN:VCALENDAR
VERSION:2.0
PRODID:-//Clinical Research Training Center//NONSGML Events//EN
CALSCALE:GREGORIAN
X-ORIGINAL-URL:https://crtc.wustl.edu/events/
X-WR-CALDESC:Clinical Research Training Center - Events
BEGIN:VEVENT
UID:20230202T1647Z-1675356443.1914-EO-30146-1@172.23.128.18
STATUS:CONFIRMED
DTSTAMP:20260424T225147Z
CREATED:20230202T164552Z
LAST-MODIFIED:20230202T164552Z
DTSTART;TZID=America/Chicago:20230308T163000
DTEND;TZID=America/Chicago:20230308T173000
SUMMARY: Parenting as a Physician-Scientist
DESCRIPTION: Co-Presenter: Laneshia Tague\, MD (MTPCI & KL2 alum) Assistant
  Professor of Medicine – Pulmonary & Critical Care Medicine Co-Presenter: N
 athan Singh\, MD\, MS Assistant Professor of Medicine – Oncology Presentati
 on is part of the Community of Academic Physician-Scientists in Training (C
 APSiT) Seminar Series. CAPSiT events unite physician-scientist trainees at 
 all career stages to give them […]
X-ALT-DESC;FMTTYPE=text/html: <p><strong>Co-Presenter: Laneshia Tague\, MD 
 </strong>(MTPCI & KL2 alum)<br />Assistant Professor of Medicine – Pulmonar
 y & Critical Care Medicine</p><p><strong>Co-Presenter: Nathan Singh\, MD\, 
 MS</strong><br />Assistant Professor of Medicine – Oncology</p><p>Presentat
 ion is part of the <strong>Community of Academic Physician-Scientists in Tr
 aining </strong>(CAPSiT) Seminar Series. CAPSiT events unite physician-scie
 ntist trainees at all career stages to give them a unique identity and prov
 ide networking opportunities with peers and successful physician-scientists
 .</p><p><strong><a href="https://wustl.box.com/s/qar42yfi7mh5j1vpakgbwhyk76
 ja6xir">Zoom Link</a></strong></p>
LOCATION:Online - Zoom
GEO:38.635144;-90.262929
ORGANIZER;CN="Brian":MAILTO:bmarston@wustl.edu
URL;VALUE=URI:https://crtc.wustl.edu/events/event/parenting-as-a-physician-
 scientist/
END:VEVENT
BEGIN:VTIMEZONE
TZID:America/Chicago
BEGIN:STANDARD
TZOFFSETFROM:-0500
TZOFFSETTO:-0600
DTSTART:20221106T070000
TZNAME:CST
END:STANDARD
END:VTIMEZONE
END:VCALENDAR
