BEGIN:VCALENDAR
VERSION:2.0
PRODID:-//Clinical Research Training Center//NONSGML Events//EN
CALSCALE:GREGORIAN
X-ORIGINAL-URL:https://crtc.wustl.edu/events/
X-WR-CALDESC:Clinical Research Training Center - Events
BEGIN:VEVENT
UID:20230907T1714Z-1694106877.4118-EO-30931-1@172.23.128.18
STATUS:CONFIRMED
DTSTAMP:20260423T021110Z
CREATED:20230907T171129Z
LAST-MODIFIED:20230907T171129Z
DTSTART;TZID=America/Chicago:20230920T160000
DTEND;TZID=America/Chicago:20230920T180000
SUMMARY: Physician-Scientist Small Group Mentoring
DESCRIPTION: Are you a Washington University physician-scientist trainee se
 eking community\, support\, and mentorship? Join the Division of Physician-
 Scientists for monthly small group meetings to meet with peers who are trav
 eling a similar professional road\, and experienced mentors who have been t
 here before. Each month will have an overarching discussion topic\, and con
 versation will be trainee-led to […]
X-ALT-DESC;FMTTYPE=text/html: <p>Are you a Washington University physician-
 scientist trainee seeking community\, support\, and mentorship? Join the Di
 vision of Physician-Scientists for monthly small group meetings to meet wit
 h peers who are traveling a similar professional road\, and experienced men
 tors who have been there before. Each month will have an overarching discus
 sion topic\, and conversation will be trainee-led to ensure that your most 
 pressing questions get answers.</p><p>Meetings happen monthly on the third 
 Wednesday of each month. They will alternate between 12 – 1 p.m. and 4:30 –
  5:30 p.m. to accommodate different schedules. Meetings will be mostly virt
 ual\, with some in person events throughout the year.</p><p>Physician-Scien
 tist trainees (MD\, DO\, MD/PhD\, or equivalent) at all levels are invited 
 to participate in a small group\, including residents\, clinical and resear
 ch fellows\, instructors\, and even assistant professors. This program is o
 pen to all WUSM departments. Groups will be made up of trainees at a simila
 r stage.</p><p><strong><a href="https://wustl.az1.qualtrics.com/jfe/form/SV
 _9S9HipAwHii7TJs">Register here.</a></strong></p><p>For more information\, 
 please view the event <a href="https://wustl.app.box.com/s/yp11lwzsxhe3u37b
 wq3ulkyz7qfi2v0x">flyer</a>.</p><p><strong>Questions?</strong><br />Contact
  Jacqui Hawkins at <a href="mailto:jahawkin@wustl.edu">jahawkin@wustl.edu</
 a>.</p>
CATEGORIES:Professional Development
ORGANIZER;CN="Brian":MAILTO:bmarston@wustl.edu
URL;VALUE=URI:https://crtc.wustl.edu/events/event/physician-scientist-small
 -group-mentoring/
END:VEVENT
BEGIN:VTIMEZONE
TZID:America/Chicago
BEGIN:DAYLIGHT
TZOFFSETFROM:-0600
TZOFFSETTO:-0500
DTSTART:20230312T080000
TZNAME:CDT
END:DAYLIGHT
END:VTIMEZONE
END:VCALENDAR
