BEGIN:VCALENDAR
VERSION:2.0
PRODID:-//Clinical Research Training Center//NONSGML Events//EN
CALSCALE:GREGORIAN
X-ORIGINAL-URL:https://crtc.wustl.edu/events/
X-WR-CALDESC:Clinical Research Training Center - Events
BEGIN:VEVENT
UID:20200304T2018Z-1583353107.5318-EO-19763-1@172.23.128.31
STATUS:CONFIRMED
DTSTAMP:20260420T132916Z
CREATED:20200227T230406Z
LAST-MODIFIED:20200304T182523Z
DTSTART;TZID=America/Chicago:20200401T160000
DTEND;TZID=America/Chicago:20200401T170000
SUMMARY: Seminar: Metabolomics
DESCRIPTION: This seminar is part of the Genomics in Medicine seminar serie
 s\, which offers attendees a practical background in molecular biology and 
 genetics\, an introduction to genomics technologies and research\, and an u
 nderstanding of the clinical application of genomics knowledge. Genomics in
  Medicine Seminar Series When: Wednesdays at 4:00 PM Where: Holden Auditori
 um Who can attend: […]
X-ALT-DESC;FMTTYPE=text/html: <p>This seminar is part of the <span><strong>
 Genomics in Medicine seminar series</strong>\, which offers attendees a pra
 ctical background in molecular biology and genetics\, an introduction to ge
 nomics technologies and research\, and an understanding of the clinical app
 lication of genomics knowledge.</span></p><hr /><h2>Genomics in Medicine Se
 minar Series</h2><p><strong>When:</strong> Wednesdays at 4:00 PM</p><p><str
 ong>Where:</strong> Holden Auditorium</p><p><strong>Who can attend:</strong
 > This lecture series is designed for clinicians and other interested perso
 ns\, including basic science researchers\, students\, residents\, fellows\,
  post- doctoral scholars\, and anyone else who wishes to learn more about t
 hese topics from WUSM faculty experts.</p><p><strong>Academic credit:</stro
 ng> Students interested in enrolling in the seminar series for credit can e
 arn up to two units of academic credit. Contact <a href="mailto:crtcmsci@wu
 stl.edu">crtcmsci@wustl.edu</a> to learn more and register.</p><p><a href="
 https://crtc.wustl.edu/calendar/genomics-medicine-seminar/">Learn more abou
 t the seminar series »</a></p>
CATEGORIES:Genomics in Medicine Seminar
LOCATION:Holden Auditorium
GEO:38.635021;-90.263078
ORGANIZER;CN="Brian":MAILTO:bmarston@wustl.edu
URL;VALUE=URI:https://crtc.wustl.edu/events/event/seminar-metabolomics/
END:VEVENT
BEGIN:VTIMEZONE
TZID:America/Chicago
BEGIN:DAYLIGHT
TZOFFSETFROM:-0600
TZOFFSETTO:-0500
DTSTART:20200308T080000
TZNAME:CDT
END:DAYLIGHT
END:VTIMEZONE
END:VCALENDAR
