BEGIN:VCALENDAR
VERSION:2.0
PRODID:-//Clinical Research Training Center//NONSGML Events//EN
CALSCALE:GREGORIAN
X-ORIGINAL-URL:https://crtc.wustl.edu/events/
X-WR-CALDESC:Clinical Research Training Center - Events
BEGIN:VEVENT
UID:20200720T1738Z-1595266725.6651-EO-20728-1@172.23.128.31
STATUS:CONFIRMED
DTSTAMP:20260415T112646Z
CREATED:20200715T213307Z
LAST-MODIFIED:20200715T213307Z
DTSTART;TZID=America/Chicago:20201118T160000
DTEND;TZID=America/Chicago:20201118T170000
SUMMARY: Single Cell Transcriptomics
DESCRIPTION: This seminar is part of the Genomics in Medicine seminar serie
 s\, which offers attendees a practical background in molecular biology and 
 genetics\, an introduction to genomics technologies and research\, and an u
 nderstanding of the clinical application of genomics knowledge. Who can att
 end? This lecture series is designed for clinicians and other interested pe
 rsons\, including basic science […]
X-ALT-DESC;FMTTYPE=text/html: <p>This seminar is part of the <a href="https
 ://crtc.wustl.edu/resources/workshops-seminars/genomics-medicine-seminar/">
 Genomics in Medicine seminar series</a>\, which offers attendees a practica
 l background in molecular biology and genetics\, an introduction to genomic
 s technologies and research\, and an understanding of the clinical applicat
 ion of genomics knowledge.</p><p><strong>Who can attend?<br /></strong>This
  lecture series is designed for clinicians and other interested persons\, i
 ncluding basic science researchers\, students\, residents\, fellows\, post-
 doctoral scholars\, and anyone else who wishes to learn more about these to
 pics from WUSM faculty experts.</p><p><strong>Contact <a href="mailto:crtcm
 sci@wustl.edu">crtcmsci@wustl.edu</a> to learn more and register.</strong><
 /p>
CATEGORIES:Genomics in Medicine Seminar
LOCATION:Online - Zoom
GEO:38.635144;-90.262929
ORGANIZER;CN="Brian":MAILTO:bmarston@wustl.edu
URL;VALUE=URI:https://crtc.wustl.edu/events/event/single-cell-transcriptomi
 cs/
END:VEVENT
BEGIN:VTIMEZONE
TZID:America/Chicago
BEGIN:STANDARD
TZOFFSETFROM:-0500
TZOFFSETTO:-0600
DTSTART:20201101T070000
TZNAME:CST
END:STANDARD
END:VTIMEZONE
END:VCALENDAR
